BEGIN:VCALENDAR
VERSION:2.0
PRODID:-//Inward Outward
CALSCALE:GREGORIAN
X-WR-CALNAME:Inward Outward
BEGIN:VEVENT
CREATED:20260425T133632Z
UID:2261-0-3
DTEND;VALUE=DATE:20241121T193000
DTSTART;VALUE=DATE:20241121T190000
DTSTAMP:20260425T133632Z
LOCATION:Media Parkboulevard 1\, 1217 WE Hilversum\, Nederland
DESCRIPTION:
SUMMARY:Publication Launch of Inward Outward 2023 Edited Collection 
ORGANIZER:Inward Outward
URL;VALUE=URI:https://inwardoutward.nl
TRANSP:OPAQUE
BEGIN:VALARM
ACTION:DISPLAY
TRIGGER;VALUE=DATE-TIME20241121T190000
DESCRIPTION:
END:VALARM
END:VEVENT
END:VCALENDAR
